BEGIN:VCALENDAR
VERSION:2.0
PRODID:-//Enough Services - ECPv6.15.20//NONSGML v1.0//EN
CALSCALE:GREGORIAN
METHOD:PUBLISH
X-WR-CALNAME:Enough Services
X-ORIGINAL-URL:https://enoughservices.org
X-WR-CALDESC:Events for Enough Services
REFRESH-INTERVAL;VALUE=DURATION:PT1H
X-Robots-Tag:noindex
X-PUBLISHED-TTL:PT1H
BEGIN:VTIMEZONE
TZID:America/New_York
BEGIN:DAYLIGHT
TZOFFSETFROM:-0500
TZOFFSETTO:-0400
TZNAME:EDT
DTSTART:20240310T070000
END:DAYLIGHT
BEGIN:STANDARD
TZOFFSETFROM:-0400
TZOFFSETTO:-0500
TZNAME:EST
DTSTART:20241103T060000
END:STANDARD
BEGIN:DAYLIGHT
TZOFFSETFROM:-0500
TZOFFSETTO:-0400
TZNAME:EDT
DTSTART:20250309T070000
END:DAYLIGHT
BEGIN:STANDARD
TZOFFSETFROM:-0400
TZOFFSETTO:-0500
TZNAME:EST
DTSTART:20251102T060000
END:STANDARD
BEGIN:DAYLIGHT
TZOFFSETFROM:-0500
TZOFFSETTO:-0400
TZNAME:EDT
DTSTART:20260308T070000
END:DAYLIGHT
BEGIN:STANDARD
TZOFFSETFROM:-0400
TZOFFSETTO:-0500
TZNAME:EST
DTSTART:20261101T060000
END:STANDARD
END:VTIMEZONE
BEGIN:VEVENT
DTSTART;TZID=America/New_York:20251014T073000
DTEND;TZID=America/New_York:20251014T170000
DTSTAMP:20260421T125332
CREATED:20250908T190326Z
LAST-MODIFIED:20250908T191644Z
UID:229-1760427000-1760461200@enoughservices.org
SUMMARY:2nd Annual Golf Outing
DESCRIPTION:Tuesday\, October 14th\, 2025\, at Running Deer Golf Club\n7:30am Breakfast and Registration\n9:00am Shotgun Start\n1:00pm Lunch\, Skills Prizes and Basket Raffles \nOpen Bar Throughout the Day
URL:https://enoughservices.org/event/2nd-annual-golf-outing/
LOCATION:Running Deer Golf Club\, 1111 Parvin Mill Road\, Pittsgrove\, NJ\, 08318\, United States
CATEGORIES:Fundraiser
ORGANIZER;CN="Enough Services":MAILTO:info@enoughservices.org
END:VEVENT
BEGIN:VEVENT
DTSTART;TZID=America/New_York:20250903T170000
DTEND;TZID=America/New_York:20250903T190000
DTSTAMP:20260421T125332
CREATED:20250908T190612Z
LAST-MODIFIED:20250908T190612Z
UID:236-1756918800-1756926000@enoughservices.org
SUMMARY:Board Meeting
DESCRIPTION:September 3rd at 5pm
URL:https://enoughservices.org/event/board-meeting/
CATEGORIES:Board Meeting
ORGANIZER;CN="Enough Services":MAILTO:info@enoughservices.org
END:VEVENT
END:VCALENDAR